BEGIN:VCALENDAR
VERSION:2.0
PRODID:-//Instituto General San Martín
CALSCALE:GREGORIAN
METHOD:PUBLISH
X-WR-CALNAME:Instituto General San Martín
X-ORIGINAL-URL:https://institutosanmartinva.edu.ar/k-event/gcse-japanese-culture-workshop/
X-WR-CALDESC:Workshop: GCSE Japanese Culture
BEGIN:VEVENT
DTSTART:
DTEND:
SUMMARY:Workshop: GCSE Japanese Culture
DESCRIPTION:
LOCATION:
END:VEVENT
END:VCALENDAR
