BEGIN:VCALENDAR
VERSION:2.0
PRODID:-//Instituto General San Martín
CALSCALE:GREGORIAN
METHOD:PUBLISH
X-WR-CALNAME:Instituto General San Martín
X-ORIGINAL-URL:https://institutosanmartinva.edu.ar/k-event/get-ahead-extended-conference/
X-WR-CALDESC:Get Ahead Extended Conference
BEGIN:VEVENT
DTSTART:
DTEND:
SUMMARY:Get Ahead Extended Conference
DESCRIPTION:
LOCATION:
END:VEVENT
END:VCALENDAR
